BEGIN:VCALENDAR
VERSION:2.0
PRODID:-//Discover Mohican - ECPv6.0.10//NONSGML v1.0//EN
CALSCALE:GREGORIAN
METHOD:PUBLISH
X-WR-CALNAME:Discover Mohican
X-ORIGINAL-URL:https://discovermohican.com
X-WR-CALDESC:Events for Discover Mohican
REFRESH-INTERVAL;VALUE=DURATION:PT1H
X-Robots-Tag:noindex
X-PUBLISHED-TTL:PT1H
BEGIN:VTIMEZONE
TZID:UTC
BEGIN:STANDARD
TZOFFSETFROM:+0000
TZOFFSETTO:+0000
TZNAME:UTC
DTSTART:20200101T000000
END:STANDARD
END:VTIMEZONE
BEGIN:VEVENT
DTSTART;TZID=UTC:20200903T110000
DTEND;TZID=UTC:20200906T200000
DTSTAMP:20260421T055331
CREATED:20200820T122953Z
LAST-MODIFIED:20200820T122954Z
UID:10000260-1599130800-1599422400@discovermohican.com
SUMMARY:Hometown Holiday Fair Food
DESCRIPTION:Join us in downtown Loudonville in the Baptist Church parking lot (across from the Legion) for fair food. We will have Stromboli\, Pizza\, Lemonade\, French Fries\, Funnel Cakes\, Elephant Ears\, Deep Fried Oreos\, Corn Dogs\, Fried Cheese\, Pickle Fries\, Cotton Candy\, and Caramel Apples. \n\n\n\nSetting up on Thursday\, September 3 through Sunday\, September 6. Thursday and Friday hours from 11 to 8. Saturday hours from 11 until 30 minutes after the fireworks. And Sunday hours from noon until five.
URL:https://discovermohican.com/event/hometown-holiday-fair-food/
LOCATION:First Baptist Church\, 124 S Market Street\, Loudonville\, Ohio\, 44842\, United States
ATTACH;FMTTYPE=image/jpeg:https://discovermohican.com/wp-content/uploads/2020/08/hometown-holiday.jpg
END:VEVENT
BEGIN:VEVENT
DTSTART;TZID=UTC:20200912T100000
DTEND;TZID=UTC:20200912T130000
DTSTAMP:20260421T055331
CREATED:20200905T234923Z
LAST-MODIFIED:20200905T234924Z
UID:10000261-1599904800-1599915600@discovermohican.com
SUMMARY:Virtual Mohican Crawdad Derby
DESCRIPTION:Calling all river enthusiasts!  The annual Mohican Crawdad Derby is going virtual with segments on crawdads and river creatures\, what water bugs and microbes tell us about clean water and how you can get involved.  See LIVE webinar links below to watch. \n\n\n\nWe’ll also announce the winner of the biggest crawdad contest!  There’s still time to enter – see details at https://m.facebook.com/story.php?story_fbid=3581275465239571&id=157992124234606 \n\n\n\n10:00am – Crawdad Hunting \n\n\n\nNo\, it’s not a lobster – it’s a crawdad!  Join us to find out fun facts about these cool creek creatures form crawdad expert\, Dr. Roger Thoma of the Midwest Biodiversity Institute.  Explore where they live\, how to find (and hold) them\, and why they can have one pincher that’s bigger than the other!  We’ll also announce the winner of the biggest crawdad contest!   \n\n\n\nLearn more about crawdads and other stream bugs with the kids Scenic Rivers Activity Book\, featuring games\, coloring pages and fun facts:  https://ohiodnr.gov/wps/portal/gov/odnr/discover-and-learn/land-water/rivers-streams-wetlands/scenic-rivers-Program \n\n\n\n11:00am – Keeping Water Clean: A Call to Action \n\n\n\nHey Citizen Scientists!  We need YOU!  Explore what water bugs can tell us about the health of our streams\, how pollution gets to streams\, tips on how you can prevent it and how to get involved.  Presented by Ohio Scenic Rivers and the Muskingum Watershed Conservancy District. \n\n\n\n12:00 pm – Turtles and Creek Creatures \n\n\n\nLet’s talk turtle!  Where do they live?  How do they survive?  What other creek creatures can you find living amongst Ohio’s aquatic turtles?  Park naturalists will answer these questions and more. \n\n\n\nLIVE Teams Webinar links: \n\n\n\nCrawdad Hunting (10am): https://teams.microsoft.com/l/meetup-join/19%3ameeting_YjFlOTdiMjctNWI1YS00MTI5LTk3NzUtYTdhZGE2MDQ0ZmFl%40thread.v2/0?context=%7b%22Tid%22%3a%2250f8fcc4-94d8-4f07-84eb-36ed57c7c8a2%22%2c%22Oid%22%3a%22db3f9428-f7b2-4fd0-92c8-dfea89ae7431%22%2c%22IsBroadcastMeeting%22%3atrue%7d \n\n\n\nKeeping Water Clean:  A Call to Action (11am):  https://teams.microsoft.com/l/meetup-join/19%3ameeting_NDI5NTQyNGYtZjU4NS00NGMwLTliNDEtMmQ2MDdlZmEzZjUz%40thread.v2/0?context=%7b%22Tid%22%3a%2250f8fcc4-94d8-4f07-84eb-36ed57c7c8a2%22%2c%22Oid%22%3a%22db3f9428-f7b2-4fd0-92c8-dfea89ae7431%22%2c%22IsBroadcastMeeting%22%3atrue%7d \n\n\n\nTurtles and Creek Creatures (12pm): https://teams.microsoft.com/l/meetup-join/19%3ameeting_M2Q1YTZlNzItMjVkMC00N2Y4LTg0ZWYtZTU1MjM3YmMyNzk1%40thread.v2/0?context=%7b%22Tid%22%3a%2250f8fcc4-94d8-4f07-84eb-36ed57c7c8a2%22%2c%22Oid%22%3a%22db3f9428-f7b2-4fd0-92c8-dfea89ae7431%22%2c%22IsBroadcastMeeting%22%3atrue%7d
URL:https://discovermohican.com/event/virtual-mohican-crawdad-derby/
LOCATION:OH
ATTACH;FMTTYPE=image/jpeg:https://discovermohican.com/wp-content/uploads/2020/09/BAFF1AD5-BA38-407E-B2B3-641B274593F1.jpeg
END:VEVENT
END:VCALENDAR