BEGIN:VCALENDAR
VERSION:2.0
PRODID:-//Discover Mohican - ECPv6.0.10//NONSGML v1.0//EN
CALSCALE:GREGORIAN
METHOD:PUBLISH
X-WR-CALNAME:Discover Mohican
X-ORIGINAL-URL:https://discovermohican.com
X-WR-CALDESC:Events for Discover Mohican
REFRESH-INTERVAL;VALUE=DURATION:PT1H
X-Robots-Tag:noindex
X-PUBLISHED-TTL:PT1H
BEGIN:VTIMEZONE
TZID:America/New_York
BEGIN:DAYLIGHT
TZOFFSETFROM:-0500
TZOFFSETTO:-0400
TZNAME:EDT
DTSTART:20200308T070000
END:DAYLIGHT
BEGIN:STANDARD
TZOFFSETFROM:-0400
TZOFFSETTO:-0500
TZNAME:EST
DTSTART:20201101T060000
END:STANDARD
TZID:UTC
BEGIN:STANDARD
TZOFFSETFROM:+0000
TZOFFSETTO:+0000
TZNAME:UTC
DTSTART:20200101T000000
END:STANDARD
END:VTIMEZONE
BEGIN:VEVENT
DTSTART;TZID=America/New_York:20200801T190000
DTEND;TZID=America/New_York:20200801T200000
DTSTAMP:20260421T072220
CREATED:20191204T184700Z
LAST-MODIFIED:20191204T184702Z
UID:10000110-1596308400-1596312000@discovermohican.com
SUMMARY:"Live Birds of Prey"
DESCRIPTION:At Mohican State Park Lodge every Saturday evening at 7pm. Enjoy an up close experience with a variety of Ohio’s bird species presented by The Ohio Bird Sanctuary. Free and open to the public. \n\n\n\nFor more information\, call 419-938-5411
URL:https://discovermohican.com/event/live-birds-of-prey-3/2020-08-01/
LOCATION:Mohican State Park Lodge and Conference Center\, 4700 Goon Road\, Perrysville\, OH\, 44864\, United States
ATTACH;FMTTYPE=image/jpeg:https://discovermohican.com/wp-content/uploads/2019/04/Ohio-Bird-Sanctuary-Owl.jpg
END:VEVENT
BEGIN:VEVENT
DTSTART;TZID=UTC:20200806T100000
DTEND;TZID=UTC:20200806T110000
DTSTAMP:20260421T072220
CREATED:20200805T123025Z
LAST-MODIFIED:20200805T123026Z
UID:10000259-1596708000-1596711600@discovermohican.com
SUMMARY:Ohio’s Wild & Scenic Rivers – Role of A River
DESCRIPTION:Did you know Ohio has the oldest Scenic River Program in the nation?What makes a river “Scenic?”Why aren’t all rivers considered “Scenic?”Heather Doherty\, Central Ohio Scenic River Manager with ODNR’s Division of Natural Areas and Preserves\, will talk about what makes these rivers special\, why healthy rivers are important to all Ohioans\, and how local communities get involved in designating their rivers during this first LIVE\, interactive episode of Ohio’s Wild & Scenic Rivers webinar series.Do you have questions about Ohio’s rivers? Utilize the Q&A box and ask away! \n\n\n\nSee the facebook event:  https://www.facebook.com/events/766723994138705/ \n\n\n\nLevel: BeginnerAudience: Middle School Children\, Families\, and EducatorsLink to Webinar: https://teams.microsoft.com/l/meetup-join/19%3ameeting_MmUxNTYzYmQtNmEwNi00MTYwLWJiMTAtY2UxNTA3OTFhOWMw%40thread.v2/0?context=%7b%22Tid%22%3a%2250f8fcc4-94d8-4f07-84eb-36ed57c7c8a2%22%2c%22Oid%22%3a%22db3f9428-f7b2-4fd0-92c8-dfea89ae7431%22%2c%22IsBroadcastMeeting%22%3atrue%7d
URL:https://discovermohican.com/event/ohios-wild-scenic-rivers-role-of-a-river/
LOCATION:OH
ATTACH;FMTTYPE=image/jpeg:https://discovermohican.com/wp-content/uploads/2020/08/Scenic-River.jpg
END:VEVENT
BEGIN:VEVENT
DTSTART;TZID=America/New_York:20200808T190000
DTEND;TZID=America/New_York:20200808T200000
DTSTAMP:20260421T072220
CREATED:20191204T184700Z
LAST-MODIFIED:20191204T184702Z
UID:10000111-1596913200-1596916800@discovermohican.com
SUMMARY:"Live Birds of Prey"
DESCRIPTION:At Mohican State Park Lodge every Saturday evening at 7pm. Enjoy an up close experience with a variety of Ohio’s bird species presented by The Ohio Bird Sanctuary. Free and open to the public. \n\n\n\nFor more information\, call 419-938-5411
URL:https://discovermohican.com/event/live-birds-of-prey-3/2020-08-08/
LOCATION:Mohican State Park Lodge and Conference Center\, 4700 Goon Road\, Perrysville\, OH\, 44864\, United States
ATTACH;FMTTYPE=image/jpeg:https://discovermohican.com/wp-content/uploads/2019/04/Ohio-Bird-Sanctuary-Owl.jpg
END:VEVENT
BEGIN:VEVENT
DTSTART;TZID=America/New_York:20200815T190000
DTEND;TZID=America/New_York:20200815T200000
DTSTAMP:20260421T072220
CREATED:20191204T184700Z
LAST-MODIFIED:20191204T184702Z
UID:10000112-1597518000-1597521600@discovermohican.com
SUMMARY:"Live Birds of Prey"
DESCRIPTION:At Mohican State Park Lodge every Saturday evening at 7pm. Enjoy an up close experience with a variety of Ohio’s bird species presented by The Ohio Bird Sanctuary. Free and open to the public. \n\n\n\nFor more information\, call 419-938-5411
URL:https://discovermohican.com/event/live-birds-of-prey-3/2020-08-15/
LOCATION:Mohican State Park Lodge and Conference Center\, 4700 Goon Road\, Perrysville\, OH\, 44864\, United States
ATTACH;FMTTYPE=image/jpeg:https://discovermohican.com/wp-content/uploads/2019/04/Ohio-Bird-Sanctuary-Owl.jpg
END:VEVENT
BEGIN:VEVENT
DTSTART;TZID=America/New_York:20200822T190000
DTEND;TZID=America/New_York:20200822T200000
DTSTAMP:20260421T072220
CREATED:20191204T184700Z
LAST-MODIFIED:20191204T184702Z
UID:10000113-1598122800-1598126400@discovermohican.com
SUMMARY:"Live Birds of Prey"
DESCRIPTION:At Mohican State Park Lodge every Saturday evening at 7pm. Enjoy an up close experience with a variety of Ohio’s bird species presented by The Ohio Bird Sanctuary. Free and open to the public. \n\n\n\nFor more information\, call 419-938-5411
URL:https://discovermohican.com/event/live-birds-of-prey-3/2020-08-22/
LOCATION:Mohican State Park Lodge and Conference Center\, 4700 Goon Road\, Perrysville\, OH\, 44864\, United States
ATTACH;FMTTYPE=image/jpeg:https://discovermohican.com/wp-content/uploads/2019/04/Ohio-Bird-Sanctuary-Owl.jpg
END:VEVENT
BEGIN:VEVENT
DTSTART;TZID=America/New_York:20200829T190000
DTEND;TZID=America/New_York:20200829T200000
DTSTAMP:20260421T072220
CREATED:20191204T184700Z
LAST-MODIFIED:20191204T184702Z
UID:10000114-1598727600-1598731200@discovermohican.com
SUMMARY:"Live Birds of Prey"
DESCRIPTION:At Mohican State Park Lodge every Saturday evening at 7pm. Enjoy an up close experience with a variety of Ohio’s bird species presented by The Ohio Bird Sanctuary. Free and open to the public. \n\n\n\nFor more information\, call 419-938-5411
URL:https://discovermohican.com/event/live-birds-of-prey-3/2020-08-29/
LOCATION:Mohican State Park Lodge and Conference Center\, 4700 Goon Road\, Perrysville\, OH\, 44864\, United States
ATTACH;FMTTYPE=image/jpeg:https://discovermohican.com/wp-content/uploads/2019/04/Ohio-Bird-Sanctuary-Owl.jpg
END:VEVENT
END:VCALENDAR